BEGIN:VCALENDAR
VERSION:2.0
PRODID:-//Talks.cam//talks.cam.ac.uk//
X-WR-CALNAME:Talks.cam
BEGIN:VEVENT
SUMMARY:How to publish a paper in 'Science' - Andrew Sugden\, Internationa
 l Managing Editor\, Science Magazine
DTSTART:20081113T130000Z
DTEND:20081113T140000Z
UID:TALK15093@talks.cam.ac.uk
CONTACT:Laura Blackburn
DESCRIPTION:Abstract not available
LOCATION:CRI Lecture Theatre\, Cambridge Research Institute
END:VEVENT
END:VCALENDAR
