BEGIN:VCALENDAR
VERSION:2.0
PRODID:-//Talks.cam//talks.cam.ac.uk//
X-WR-CALNAME:Talks.cam
BEGIN:VEVENT
SUMMARY:Virtualising 3D Hardware - Chris Smowton\, Computer Laboratory\, U
 niversity of Cambridge
DTSTART:20081104T130000Z
DTEND:20081104T140000Z
UID:TALK15114@talks.cam.ac.uk
CONTACT:Henry Robinson
DESCRIPTION:Abstract not available
LOCATION:Computer Laboratory\, William Gates Building\, Room FW11
END:VEVENT
END:VCALENDAR
