BEGIN:VCALENDAR
VERSION:2.0
PRODID:-//Talks.cam//talks.cam.ac.uk//
X-WR-CALNAME:Talks.cam
BEGIN:VEVENT
SUMMARY:Seth Masters\, Title “NLRP1 inflammasome activation in mice and 
 humans resulting from DPP9 deficiency” and Petr Broz\, Title: “How do 
 bystander cells respond  to pyroptosis and other forms of death?” - Seth
  Masters (The Walter and Eliza Hall Institute of Medical Research) and Pet
 r Broz (University of Lausanne)
DTSTART:20210215T090000Z
DTEND:20210215T103000Z
UID:TALK152083@talks.cam.ac.uk
CONTACT:Dr. Maryam Arasteh
DESCRIPTION:Abstract not available
LOCATION: Webinar  (via Zoom online)
END:VEVENT
END:VCALENDAR
