BEGIN:VCALENDAR
VERSION:2.0
PRODID:-//Talks.cam//talks.cam.ac.uk//
X-WR-CALNAME:Talks.cam
BEGIN:VEVENT
SUMMARY:IPv6: the basics - Ben Harris\, University of Cambridge
DTSTART:20090204T141500Z
DTEND:20090204T151500Z
UID:TALK15374@talks.cam.ac.uk
CONTACT:Markus Kuhn
DESCRIPTION:Most people who work with computers have a fair idea how IPv4 
 works. IPv6\, by contrast\, is a bit of a mystery despite being over ten y
 ears old. I intend to try to explain the basics of IPv6 addressing and ope
 ration and how it seems to work in practice.
LOCATION:Lecture Theatre 1\, Computer Laboratory
END:VEVENT
END:VCALENDAR
