BEGIN:VCALENDAR
VERSION:2.0
PRODID:-//Talks.cam//talks.cam.ac.uk//
X-WR-CALNAME:Talks.cam
BEGIN:VEVENT
SUMMARY:Material Culture Hub Research update event - Speaker to be confirm
 ed
DTSTART:20201116T160000Z
DTEND:20201116T170000Z
UID:TALK153931@talks.cam.ac.uk
CONTACT:31762
DESCRIPTION:The Material Culture Hub (Department of Archaeology) is holdin
 g its first Michaelmas event as a mini research update from several of our
  current members.  Presentations of research are short (10 minutes) and in
 formal with space in between for questions and discussion.  The Material C
 ulture Hub is an open and friendly community interested in the interdiscip
 linary approaches to material culture (with an archaeological perspective)
 .\n\nIf you are interested in joining the talk or the community\, contact 
 Dr. Sheila Kohring (sek34) as below.
LOCATION:Online (ask organiser for link)
END:VEVENT
END:VCALENDAR
