BEGIN:VCALENDAR
VERSION:2.0
PRODID:-//Talks.cam//talks.cam.ac.uk//
X-WR-CALNAME:Talks.cam
BEGIN:VEVENT
SUMMARY:(FPT Preview) Modelling and Compensating for Clock Skew  Variabili
 ty in FPGAs - Dr Pete Sedcole (Imperial College London)
DTSTART:20081128T153000Z
DTEND:20081128T160000Z
UID:TALK15456@talks.cam.ac.uk
CONTACT:Alastair Smith
DESCRIPTION:Abstract not available
LOCATION:Mahanakorn Laboratory\, EEE
END:VEVENT
END:VCALENDAR
