BEGIN:VCALENDAR
VERSION:2.0
PRODID:-//Talks.cam//talks.cam.ac.uk//
X-WR-CALNAME:Talks.cam
BEGIN:VEVENT
SUMMARY:Opening Remarks - Chris Swinerd  (Defence Science and Technology L
 aboratory)
DTSTART:20210106T100500Z
DTEND:20210106T101500Z
UID:TALK155098@talks.cam.ac.uk
CONTACT:INI IT
DESCRIPTION:
LOCATION:Seminar Room 1\, Newton Institute
END:VEVENT
END:VCALENDAR
