BEGIN:VCALENDAR
VERSION:2.0
PRODID:-//Talks.cam//talks.cam.ac.uk//
X-WR-CALNAME:Talks.cam
BEGIN:VEVENT
SUMMARY:Problem solving in slime molds - Audrey Dussutour - Universite Pau
 l Sabatier
DTSTART:20210209T130000Z
DTEND:20210209T140000Z
UID:TALK155305@talks.cam.ac.uk
CONTACT:Emília Santos
DESCRIPTION:Abstract not available
LOCATION:Online (ask organizers for link)
END:VEVENT
END:VCALENDAR
