BEGIN:VCALENDAR
VERSION:2.0
PRODID:-//Talks.cam//talks.cam.ac.uk//
X-WR-CALNAME:Talks.cam
BEGIN:VEVENT
SUMMARY:Nature’s information networks: from collective behavior to ecosy
 stem dynamics - Andrew Hein - University of California
DTSTART:20210309T130000Z
DTEND:20210309T140000Z
UID:TALK155320@talks.cam.ac.uk
CONTACT:Emília Santos
DESCRIPTION:Abstract not available
LOCATION:Online (ask organizers for link)
END:VEVENT
END:VCALENDAR
