BEGIN:VCALENDAR
VERSION:2.0
PRODID:-//Talks.cam//talks.cam.ac.uk//
X-WR-CALNAME:Talks.cam
BEGIN:VEVENT
SUMMARY:Big Steps Toward Small Worlds: Exoplanet Atmosphere Characterizati
 on in the 2020s and Beyond - Laura Kreidberg\, MPIA
DTSTART:20210223T130000Z
DTEND:20210223T140000Z
UID:TALK155542@talks.cam.ac.uk
CONTACT:Dr Mathias Nowak
DESCRIPTION:We now know that exoplanets abound in the Galaxy\, with most s
 tars hosting at least one planet. These recently discovered worlds are muc
 h more diverse than the planets in the Solar System\, and raise many quest
 ions about their formation\, evolution\, and habitability. To address thes
 e questions\, we turn to atmosphere characterization\, which provides a we
 alth of additional information about the planets. I will discuss the state
  of the art in atmosphere studies\, focusing on recent high-precision\, sp
 ace-based observations of planets ranging in size from Jupiter to Earth. T
 hese studies have already revealed planetary atmospheric chemistry\, clima
 te\, and cloud coverage in unprecedented detail\, and they are poised for 
 a revolutionary advance thanks to a spate of new ground-based and space-ba
 sed observatories.\n\n\n
LOCATION:ONLINE - Details to be sent by email
END:VEVENT
END:VCALENDAR
