BEGIN:VCALENDAR
VERSION:2.0
PRODID:-//Talks.cam//talks.cam.ac.uk//
X-WR-CALNAME:Talks.cam
BEGIN:VEVENT
SUMMARY:A CFT distance conjecture - Leonardo Rastelli (Stonybrook)
DTSTART:20210204T140000Z
DTEND:20210204T150000Z
UID:TALK155746@talks.cam.ac.uk
CONTACT:Pietro Benetti Genolini
DESCRIPTION:We formulate a series of conjectures relating the geometry of 
 conformal manifolds to the spectrum of local operators in conformal field 
 theories in d > 2 spacetime dimensions. Our central conjecture is that all
  theories at infinite distance in the Zamolodchikov metric possess an emer
 gent higher-spin symmetry\, generated by an infinite tower of currents who
 se anomalous dimensions vanish exponentially in the distance. In the holog
 raphic context our conjectures are related to the Distance Conjecture in t
 he swampland program. We motivate and illustrate these conjectures by surv
 eying the landscape of superconformal field theories in three and four dim
 ensions.
LOCATION:Online (Zoom)
END:VEVENT
END:VCALENDAR
