BEGIN:VCALENDAR
VERSION:2.0
PRODID:-//Talks.cam//talks.cam.ac.uk//
X-WR-CALNAME:Talks.cam
BEGIN:VEVENT
SUMMARY:Internal Preprint Seminar - Jessica Fintzen (University of Cambrid
 ge)
DTSTART:20210302T143000Z
DTEND:20210302T153000Z
UID:TALK156562@talks.cam.ac.uk
CONTACT:Rong Zhou
DESCRIPTION:Overview of the paper "A short proof of the existence of super
 cuspidal representations for all reductive p-adic groups"
LOCATION:Online
END:VEVENT
END:VCALENDAR
