BEGIN:VCALENDAR
VERSION:2.0
PRODID:-//Talks.cam//talks.cam.ac.uk//
X-WR-CALNAME:Talks.cam
BEGIN:VEVENT
SUMMARY:An introduction to the ICE specification for piling and embedded r
 etaining walls - Tony Suckling (Arup)  formerly of Stent Foundations Ltd
DTSTART:20090211T183000Z
DTEND:20090211T200000Z
UID:TALK15683@talks.cam.ac.uk
CONTACT:Dr Dick Fenner
DESCRIPTION:Abstract not available
LOCATION: Cambridge University Engineering Department\, LR6
END:VEVENT
END:VCALENDAR
