BEGIN:VCALENDAR
VERSION:2.0
PRODID:-//Talks.cam//talks.cam.ac.uk//
X-WR-CALNAME:Talks.cam
BEGIN:VEVENT
SUMMARY:How does centralspindlin form microtubule bundles and accumulate o
 n them during cytokinesis. - Dr Masanori Mishima - Gurdon Institute\, Camb
 ridge University.
DTSTART:20090305T143000Z
DTEND:20090305T163000Z
UID:TALK15717@talks.cam.ac.uk
CONTACT:Cath Tinley
DESCRIPTION:Abstract not available
LOCATION:Part II room\,  Department of Genetics
END:VEVENT
END:VCALENDAR
