BEGIN:VCALENDAR
VERSION:2.0
PRODID:-//Talks.cam//talks.cam.ac.uk//
X-WR-CALNAME:Talks.cam
BEGIN:VEVENT
SUMMARY:Human Wellbeing\, Justice\, Climate Action and the road to COP26 -
  Prof. Tollulah Oni\, Dr. Nicole Redver\, Dr. Renzo Guinto\, Mikaela Loach
 \, Dr. Stella Hartinger. Moderated by Prof. Sally Davies 
DTSTART:20210311T193000Z
DTEND:20210311T210000Z
UID:TALK157714@talks.cam.ac.uk
CONTACT:Anjuli Banerjee
DESCRIPTION:This event will bring together leading international speakers 
 to talk about their experience of the impacts of environmental change and 
 discuss how recognising climate change as an issue of human wellbeing and 
 justice has informed their own work and advocacy for change. We will look 
 for shared lessons of relevance to people throughout the world\, consider 
 how a health and justice based perspective on climate action could reshape
  our progress in the coming years and how this can form our road to COP26 
 and beyond. \n
LOCATION: Webinar  (via Zoom online)
END:VEVENT
END:VCALENDAR
