BEGIN:VCALENDAR
VERSION:2.0
PRODID:-//Talks.cam//talks.cam.ac.uk//
X-WR-CALNAME:Talks.cam
BEGIN:VEVENT
SUMMARY:Atypical Neurogenesis in Autism - Dr Deep Adhya (Department of Psy
 chiatry\, University of Cambridge)
DTSTART:20210314T110500Z
DTEND:20210314T113000Z
UID:TALK158128@talks.cam.ac.uk
CONTACT:Miroslava Novoveska
DESCRIPTION:YouTube link: https://youtu.be/cfcSFJg4ANc\n\nRegistration for
 m to attend Q&A session on Zoom: https://forms.gle/tTRQreym7s6pR2rW6\n\nAu
 tism is a neurodevelopmental condition with symptoms appearing few years a
 fter birth. However recent studies suggest symptoms of autism may start at
  very early prenatal-equivalent stages\, when neurons start developing fro
 m precursor cells. These early studies also suggest that prenatal autistic
  symptoms are a result of co-occurring macrocephaly. Contrary to these fin
 ding\, we have discovered that autistic cellular symptoms are not macrocep
 haly-dependent. Moreover these symptoms are specific to neurons of cortica
 l lineage\, and we have specifically identified brain neurulation-like in-
 vitro processes to be affected. Brain neurulation is the critical stage of
  fetal development when the central nervous system is formed\, so we are c
 urrently investigating how such early mechanisms are being altered in auti
 sm.
LOCATION:Online
END:VEVENT
END:VCALENDAR
