BEGIN:VCALENDAR
VERSION:2.0
PRODID:-//Talks.cam//talks.cam.ac.uk//
X-WR-CALNAME:Talks.cam
BEGIN:VEVENT
SUMMARY:Resurgence in Differential Equations\, and Effective Summation Met
 hods - Gerald Dunne (University of Connecticut)
DTSTART:20210322T160000Z
DTEND:20210322T170000Z
UID:TALK158284@talks.cam.ac.uk
CONTACT:INI IT
DESCRIPTION:
LOCATION:Seminar Room 1\, Newton Institute
END:VEVENT
END:VCALENDAR
