BEGIN:VCALENDAR
VERSION:2.0
PRODID:-//Talks.cam//talks.cam.ac.uk//
X-WR-CALNAME:Talks.cam
BEGIN:VEVENT
SUMMARY:Modern microwave radios and antennas - Dr Dave Waymont (Waymont Co
 nsulting Limited)
DTSTART:20090127T163000Z
DTEND:20090127T173000Z
UID:TALK15883@talks.cam.ac.uk
CONTACT:Jane Buckle
DESCRIPTION:Abstract not available
LOCATION:Ryle Seminar Room\, Cavendish Laboratory
END:VEVENT
END:VCALENDAR
