BEGIN:VCALENDAR
VERSION:2.0
PRODID:-//Talks.cam//talks.cam.ac.uk//
X-WR-CALNAME:Talks.cam
BEGIN:VEVENT
SUMMARY:The biomechanics of Spiderman: how insects walk on the ceiling - D
 r Walter Federle\, Department of Zoology
DTSTART:20090223T173000Z
DTEND:20090223T183000Z
UID:TALK15900@talks.cam.ac.uk
CONTACT:Beverley Larner
DESCRIPTION:Abstract not available
LOCATION:Bristol-Myers Squibb Lecture Theatre\, Department of Chemistry\, 
 Lensfield Road
END:VEVENT
END:VCALENDAR
