BEGIN:VCALENDAR
VERSION:2.0
PRODID:-//Talks.cam//talks.cam.ac.uk//
X-WR-CALNAME:Talks.cam
BEGIN:VEVENT
SUMMARY:Some PDEs and relatives - John King (University of Nottingham)
DTSTART:20210420T150000Z
DTEND:20210420T160000Z
UID:TALK159022@talks.cam.ac.uk
CONTACT:INI IT
DESCRIPTION:I shall describe the role of exponentially small<br><br> terms
  in some PDEs and related differential difference equations\, and ask<br><
 br> questions about possible commonalities with QFTs. While I am mainly in
 terested<br><br> in dissipative (parabolic) cases\, I shall - for reasons 
 that are presumably<br><br> obvious - focus on properties shared by the co
 rresponding time-reversible<br><br> (hyperbolic) models.
LOCATION:Seminar Room 1\, Newton Institute
END:VEVENT
END:VCALENDAR
