BEGIN:VCALENDAR
VERSION:2.0
PRODID:-//Talks.cam//talks.cam.ac.uk//
X-WR-CALNAME:Talks.cam
BEGIN:VEVENT
SUMMARY:The Marginal Zone B cell - T follicular helper cell connection. - 
 Dr Meritxell Nus\, Cardiovascular Division\, Department of Medicine\, Univ
 ersity of Cambridge
DTSTART:20210428T113000Z
DTEND:20210428T123000Z
UID:TALK159484@talks.cam.ac.uk
CONTACT:Emma Copley
DESCRIPTION:Abstract not available
LOCATION:On Microsoft Teams (email ec682@cam.ac.uk for the link) 
END:VEVENT
END:VCALENDAR
