BEGIN:VCALENDAR
VERSION:2.0
PRODID:-//Talks.cam//talks.cam.ac.uk//
X-WR-CALNAME:Talks.cam
BEGIN:VEVENT
SUMMARY:Development and function of mucosal NK cells: lymphoid tissue indu
 cer-like cells or NK-22 - Prof. Dr. Andreas Diefenbach\, Institute of Medi
 cal Microbiology and Hygiene\, Freiburg
DTSTART:20090121T123000Z
DTEND:20090121T133000Z
UID:TALK15990@talks.cam.ac.uk
CONTACT:Prof. Jim Kaufman
DESCRIPTION:Abstract not available
LOCATION:Lecture Theater\, Department of Pathology\, Tennis Court Road
END:VEVENT
END:VCALENDAR
