BEGIN:VCALENDAR
VERSION:2.0
PRODID:-//Talks.cam//talks.cam.ac.uk//
X-WR-CALNAME:Talks.cam
BEGIN:VEVENT
SUMMARY:Race Awareness : Whiteness and Being an Antiracist Ally - 2nd Sess
 ion  - Joanna Jasiewicz  (Equality\, Diversity and Inclusion Consultant \,
  University of  Cambridge)
DTSTART:20210617T100000Z
DTEND:20210617T110000Z
UID:TALK159907@talks.cam.ac.uk
CONTACT:100744
DESCRIPTION:\nCome along to this session if you’d like to develop tools 
 for becoming an antiracist ally and to build a strong antiracist identity.
 \n\nThe training will be split into two 1h sessions.\n\nThis will allow us
  to make space for discussion while not making the zoom meeting too long.\
 n\nWhile the session may be most helpful to white colleagues\, everyone is
  warmly invited to attend.\n\n\nBook your place here https://www.training.
 cam.ac.uk/equality/event/3878587
LOCATION:Zoom
END:VEVENT
END:VCALENDAR
