BEGIN:VCALENDAR
VERSION:2.0
PRODID:-//Talks.cam//talks.cam.ac.uk//
X-WR-CALNAME:Talks.cam
BEGIN:VEVENT
SUMMARY:Genomically Humanised Mouse Models For ALS Research - Dr Thomas Cu
 nningham\, MRC Harwell Institute
DTSTART:20210520T110000Z
DTEND:20210520T120000Z
UID:TALK160054@talks.cam.ac.uk
CONTACT:Louise Massara
DESCRIPTION:Join Zoom Meeting\nhttps://us02web.zoom.us/j/83203464480?pwd=a
 llMUnppMVp5am1OYWdFVFBFamZhQT09\n\nMeeting ID: 832 0346 4480\nPasscode: 09
 9869\n
LOCATION:Zoom (link will be given in Abstract)
END:VEVENT
END:VCALENDAR
