BEGIN:VCALENDAR
VERSION:2.0
PRODID:-//Talks.cam//talks.cam.ac.uk//
X-WR-CALNAME:Talks.cam
BEGIN:VEVENT
SUMMARY:MHAW: Managing Our Digital Work and Digital Wellbeing - Mental Awa
 reness Week 
DTSTART:20210510T100000Z
DTEND:20210510T110000Z
UID:TALK160366@talks.cam.ac.uk
CONTACT:100744
DESCRIPTION:Our ways of working and living online have changed a great dea
 l during the past year.\n\nWhat kinds of habits and routines have we creat
 ed in our digital lives?\n\nIn this session we’ll talk how we might bala
 nce digital productivity and wellbeing\, how to cope with digital fatigue 
 and distraction\, and more.\n\nBook your place here https://www.training.c
 am.ac.uk/equality/event/3898699
LOCATION:Zoom
END:VEVENT
END:VCALENDAR
