BEGIN:VCALENDAR
VERSION:2.0
PRODID:-//Talks.cam//talks.cam.ac.uk//
X-WR-CALNAME:Talks.cam
BEGIN:VEVENT
SUMMARY:MHAW:  Wellbeing For Young People - Sarah-Cate Blake\, Education O
 fficer at the Fitzwilliam Museum
DTSTART:20210512T100000Z
DTEND:20210512T110000Z
UID:TALK160381@talks.cam.ac.uk
CONTACT:100744
DESCRIPTION:Led by Sarah-Cate Blake\, Education Officer at the Fitzwilliam
  Museum\, this session will include ideas and resources for those working 
 with or caring for young people.\n\nA set of ideas and techniques for Youn
 g People to put into practice and facilitate their own self-regulated well
 being resilience. Some of these are creative and practical activities\, ot
 hers are from trauma informed yoga and mindfulness.\n\nBook your place her
 e https://www.training.cam.ac.uk/equality/event/3907030\n\nFormat\nZoom Vi
 deo Conferencing : the joining instructions will be provided on your booki
 ng confirmation email.\n\nNotes\nMembers of the University who do not have
  a Raven login can book their place via email to the EDI team on equality@
 admin.cam.ac.uk
LOCATION:Zoom
END:VEVENT
END:VCALENDAR
