BEGIN:VCALENDAR
VERSION:2.0
PRODID:-//Talks.cam//talks.cam.ac.uk//
X-WR-CALNAME:Talks.cam
BEGIN:VEVENT
SUMMARY:ARC: Practice Talk 2 - Asma Kahoul (Imperial College London)
DTSTART:20090312T120000Z
DTEND:20090312T130000Z
UID:TALK16097@talks.cam.ac.uk
CONTACT:Dr George A Constantinides
DESCRIPTION:This will be a round-two practice of Asma's ARC presentation. 
 Attendance voluntary.
LOCATION:Mahanakorn Laboratory\, EEE
END:VEVENT
END:VCALENDAR
