BEGIN:VCALENDAR
VERSION:2.0
PRODID:-//Talks.cam//talks.cam.ac.uk//
X-WR-CALNAME:Talks.cam
BEGIN:VEVENT
SUMMARY:Getting Back to ‘Normal’ – The Psychological Aspects of Emer
 ging from Lockdown - Zoe Martin &amp\;  Dr Anna Conway-Morris
DTSTART:20210701T100000Z
DTEND:20210701T110000Z
UID:TALK161155@talks.cam.ac.uk
CONTACT:100744
DESCRIPTION:A brief look at:\n\n* the psychological impact of the COVID pa
 ndemic and lockdown on adults and adolescents\n\n* the potential for mixed
  feelings as COVID restrictions lift\n\n* taking care of our mental health
  as we go back to our ‘normal’ lives\n\nDr Zoe Martin\, Principal Clin
 ical Psychologist in Major Trauma & Consultant Clinical Psychologist at St
 aff Mental Health Service Dr Anna Conway-Morris\, Consultant Child and Ado
 lescent Psychiatrist & Training Programme Director for Child Psychiatry\n\
 nTo book a place visit https://www.training.cam.ac.uk/equality/event/39449
 28
LOCATION:Zoom
END:VEVENT
END:VCALENDAR
