BEGIN:VCALENDAR
VERSION:2.0
PRODID:-//Talks.cam//talks.cam.ac.uk//
X-WR-CALNAME:Talks.cam
BEGIN:VEVENT
SUMMARY:Brake-actuated Axle Steering - Francesco Amoruso\, Vehicles Group
DTSTART:20211015T150000Z
DTEND:20211015T160000Z
UID:TALK161575@talks.cam.ac.uk
CONTACT:46601
DESCRIPTION:Abstract not available
LOCATION:JDB Seminar Room\, CUED
END:VEVENT
END:VCALENDAR
