BEGIN:VCALENDAR
VERSION:2.0
PRODID:-//Talks.cam//talks.cam.ac.uk//
X-WR-CALNAME:Talks.cam
BEGIN:VEVENT
SUMMARY:A global view of the Milky Way satellites - Yang-Shyang Li (Kaptey
 n Astronomical Institute)
DTSTART:20090121T131500Z
DTEND:20090121T134500Z
UID:TALK16159@talks.cam.ac.uk
CONTACT:Dr. Daniel Nestor
DESCRIPTION:Abstract not available
LOCATION:Sackler Lecture Theatre\, IoA
END:VEVENT
END:VCALENDAR
