BEGIN:VCALENDAR
VERSION:2.0
PRODID:-//Talks.cam//talks.cam.ac.uk//
X-WR-CALNAME:Talks.cam
BEGIN:VEVENT
SUMMARY:Developments in therapeutic remyelination: the clemastine story an
 d biological validation of biomarkers - Dr Ari.Green - University of Calif
 ornia San Francisco
DTSTART:20210928T150000Z
DTEND:20210928T160000Z
UID:TALK162658@talks.cam.ac.uk
CONTACT:Joanna Worthington
DESCRIPTION:Abstract not available
LOCATION:Zoom
END:VEVENT
END:VCALENDAR
