BEGIN:VCALENDAR
VERSION:2.0
PRODID:-//Talks.cam//talks.cam.ac.uk//
X-WR-CALNAME:Talks.cam
BEGIN:VEVENT
SUMMARY:To be confirmed - Test
DTSTART:20211101T110000Z
DTEND:20211101T120000Z
UID:TALK163048@talks.cam.ac.uk
CONTACT:Dr T. Ferrus
DESCRIPTION:To be added
LOCATION:Test
END:VEVENT
END:VCALENDAR
