BEGIN:VCALENDAR
VERSION:2.0
PRODID:-//Talks.cam//talks.cam.ac.uk//
X-WR-CALNAME:Talks.cam
BEGIN:VEVENT
SUMMARY:Situating mental health within the nature-climate-wellbeing triple
  challenge: Evidence from rural Uganda - Thomas Pienkowski
DTSTART:20211123T130000Z
DTEND:20211123T140000Z
UID:TALK163348@talks.cam.ac.uk
CONTACT:Fleur Nash
DESCRIPTION:Abstract not available
LOCATION:Delivered online via Zoom
END:VEVENT
END:VCALENDAR
