BEGIN:VCALENDAR
VERSION:2.0
PRODID:-//Talks.cam//talks.cam.ac.uk//
X-WR-CALNAME:Talks.cam
BEGIN:VEVENT
SUMMARY:Human Evolution at the Crossroads - Professor Katerina Harvati
DTSTART:20211110T163000Z
DTEND:20211110T173000Z
UID:TALK163762@talks.cam.ac.uk
CONTACT:Laura van Holstein
DESCRIPTION:Abstract not available
LOCATION:Live on Zoom\, link circulated by email
END:VEVENT
END:VCALENDAR
