BEGIN:VCALENDAR
VERSION:2.0
PRODID:-//Talks.cam//talks.cam.ac.uk//
X-WR-CALNAME:Talks.cam
BEGIN:VEVENT
SUMMARY:Performance and modelling of the oscillating piston flowmeter - Ch
 arlotte E Morton\, Institute for Manufacturing
DTSTART:20090123T113000Z
DTEND:20090123T123000Z
UID:TALK16377@talks.cam.ac.uk
CONTACT:Roger Baker
DESCRIPTION:Abstract not available
LOCATION:Seminar Room B at the Institute for Manufacturing\, Mill Lane
END:VEVENT
END:VCALENDAR
