BEGIN:VCALENDAR
VERSION:2.0
PRODID:-//Talks.cam//talks.cam.ac.uk//
X-WR-CALNAME:Talks.cam
BEGIN:VEVENT
SUMMARY:Why is this feast different from all other feasts?: Eucharistic ri
 tual and belief in early medieval societies - Celia Chazelle (College of N
 ew Jersey)
DTSTART:20090209T173000Z
DTEND:20090209T184500Z
UID:TALK16398@talks.cam.ac.uk
CONTACT:Clare Vernon
DESCRIPTION:Abstract not available
LOCATION:The History of Art Graduate Centre - 4a Trumpington Street
END:VEVENT
END:VCALENDAR
