BEGIN:VCALENDAR
VERSION:2.0
PRODID:-//Talks.cam//talks.cam.ac.uk//
X-WR-CALNAME:Talks.cam
BEGIN:VEVENT
SUMMARY:Kaluza-Klein Reductions and AdS/CFT - Jerome Gauntlett [Imperial]
DTSTART:20090225T141500Z
DTEND:20090225T153000Z
UID:TALK16437@talks.cam.ac.uk
CONTACT:Anshuman Maharana
DESCRIPTION:Abstract not available
LOCATION:MR2\, Centre for Mathematical Sciences
END:VEVENT
END:VCALENDAR
