BEGIN:VCALENDAR
VERSION:2.0
PRODID:-//Talks.cam//talks.cam.ac.uk//
X-WR-CALNAME:Talks.cam
BEGIN:VEVENT
SUMMARY:Engineering the future by leveraging digital technologies - Cambri
 dge: Dr Robert Phaal\, Dr Letizia Mortara. UTokyo: Prof Yasushi Umeda\, Dr
  Yusuke Kishita 
DTSTART:20211216T090000Z
DTEND:20211216T100000Z
UID:TALK164617@talks.cam.ac.uk
CONTACT:Jingchen Hou
DESCRIPTION:This session will focus on how digital technologies are used t
 o advance engineering. There are many ways of using digital technologies (
 e.g.\, artificial intelligence (AI)\, virtual reality (VR)\, augmented rea
 lity (AR)\, and digital twins) in various applications. As the new frontie
 r in the field\, this session looks at two applications – smart manufact
 uring and strategic planning. The academics involved will present and disc
 uss their research\, and the benefits of collaboration in this field.\n\nD
 ate and time: 9:00-10:00am GMT/18:00-19:00pm JST\, Thursday 16th December 
 2021\nFor further information please visit: http://sp.t.u-tokyo.ac.jp/UTok
 yo_Cam/events/engineering-the-future/\n\nCambridge speakers include:\n* Dr
  Robert Phaal\, Institute for Manufacturing\, Department of Engineering\n*
  Dr Letizia Mortara\, Institute for Manufacturing\, Department of Engineer
 ing\n\nUTokyo speakers include:\n* Prof Yasushi Umeda\, School of Engineer
 ing\n* Dr Yusuke Kishita\, School of Engineering\n\n*Registration: https:/
 /u-tokyo-ac-jp.zoom.us/meeting/register/tZctc-yqqT4jGNBhA04F8tQEgYhwnato4y
 OX*
LOCATION:Registration for Webinar: https://u-tokyo-ac-jp.zoom.us/meeting/r
 egister/tZctc-yqqT4jGNBhA04F8tQEgYhwnato4yOX
END:VEVENT
END:VCALENDAR
