BEGIN:VCALENDAR
VERSION:2.0
PRODID:-//Talks.cam//talks.cam.ac.uk//
X-WR-CALNAME:Talks.cam
BEGIN:VEVENT
SUMMARY:Short Term Hydro Power Planning Coordinated with Wind Power in Are
 as with Congestion Problems - Julija Matevosyan (Royal Institute of Techno
 logy\, Sweden)
DTSTART:20090202T123000Z
DTEND:20090202T140000Z
UID:TALK16551@talks.cam.ac.uk
CONTACT:Madie Armstrong
DESCRIPTION:Abstract not available
LOCATION:W2.01\, Judge Business School
END:VEVENT
END:VCALENDAR
