BEGIN:VCALENDAR
VERSION:2.0
PRODID:-//Talks.cam//talks.cam.ac.uk//
X-WR-CALNAME:Talks.cam
BEGIN:VEVENT
SUMMARY:Talk 3 – The Potential Epidemiological and Economic Impacts of A
 ccelerated COVID-19 Vaccination in Kenya - John Ojal (KEMRI-Wellcome Trust
  Research Programme)
DTSTART:20211214T113500Z
DTEND:20211214T120500Z
UID:TALK165610@talks.cam.ac.uk
DESCRIPTION:
LOCATION:No Room Required
END:VEVENT
END:VCALENDAR
