BEGIN:VCALENDAR
VERSION:2.0
PRODID:-//Talks.cam//talks.cam.ac.uk//
X-WR-CALNAME:Talks.cam
BEGIN:VEVENT
SUMMARY:Clinical Treatment and Cancer Stem Cell Biology in Malignant Gliom
 a  - Dr Harry Bulstrode\, Francis Crick Institute
DTSTART:20220127T093000Z
DTEND:20220127T103000Z
UID:TALK165874@talks.cam.ac.uk
CONTACT:Justin Holt
DESCRIPTION:Abstract not available
LOCATION:William Harvey Lecture Theatre\, School of Clinical Medicine
END:VEVENT
END:VCALENDAR
