BEGIN:VCALENDAR
VERSION:2.0
PRODID:-//Talks.cam//talks.cam.ac.uk//
X-WR-CALNAME:Talks.cam
BEGIN:VEVENT
SUMMARY:Degenerations of the Hilbert scheme and tropical geometry - Dhruv 
 Ranganathan\, Cambridge
DTSTART:20211124T141500Z
DTEND:20211124T151500Z
UID:TALK165976@talks.cam.ac.uk
CONTACT:Dhruv Ranganathan
DESCRIPTION:Abstract not available
LOCATION:CMS MR13
END:VEVENT
END:VCALENDAR
