BEGIN:VCALENDAR
VERSION:2.0
PRODID:-//Talks.cam//talks.cam.ac.uk//
X-WR-CALNAME:Talks.cam
BEGIN:VEVENT
SUMMARY:Title to be confirmed - Edith Hotchkiss (Boston College)
DTSTART:20220118T130000Z
DTEND:20220118T141500Z
UID:TALK166180@talks.cam.ac.uk
CONTACT:Emily Brown
DESCRIPTION:Abstract not available
LOCATION:via zoom 
END:VEVENT
END:VCALENDAR
