BEGIN:VCALENDAR
VERSION:2.0
PRODID:-//Talks.cam//talks.cam.ac.uk//
X-WR-CALNAME:Talks.cam
BEGIN:VEVENT
SUMMARY:Fundamental Principles of Reproducibility - Odd Erik Gundersen (No
 rwegian University of Science and Technology\, NTNU)
DTSTART:20220208T140000Z
DTEND:20220208T142500Z
UID:TALK166804@talks.cam.ac.uk
DESCRIPTION:
LOCATION:Seminar Room 1\, Newton Institute
END:VEVENT
END:VCALENDAR
