BEGIN:VCALENDAR
VERSION:2.0
PRODID:-//Talks.cam//talks.cam.ac.uk//
X-WR-CALNAME:Talks.cam
BEGIN:VEVENT
SUMMARY:Bayesian real-time epidemic monitoring of Covid-19 - Angelos Alexo
 poulos (MRC Biostatistics Unit)
DTSTART:20220210T151000Z
DTEND:20220210T153500Z
UID:TALK166855@talks.cam.ac.uk
DESCRIPTION:
LOCATION:Seminar Room 1\, Newton Institute
END:VEVENT
END:VCALENDAR
