BEGIN:VCALENDAR
VERSION:2.0
PRODID:-//Talks.cam//talks.cam.ac.uk//
X-WR-CALNAME:Talks.cam
BEGIN:VEVENT
SUMMARY:KuCoin Review - The Most Popular Crypto Exchange - Speaker to be c
 onfirmed
DTSTART:20211216T110000Z
DTEND:20211216T120000Z
UID:TALK167110@talks.cam.ac.uk
CONTACT:Amber bolton - deleted
DESCRIPTION:In terms of security\, KuCoin offers a variety of features. Fi
 rst\, you can enable 2FA security\, which lets you receive a notification 
 if you try to sign in without a valid password. Next\, you can secure your
  account by setting up your trading password. Lastly\, you should undergo 
 KYC\, which enables you to recover your account in case of theft. You can 
 purchase crypto with your credit card or send them from another source. Th
 en\, once you have accumulated enough funds\, you can trade them and withd
 raw them from your main account.\n!https://blockbuild.africa/wp-content/up
 loads/2021/11/Kucoin.jpg!\n\nOther features of KuCoin include its global p
 resence\, support staff\, and trading engine. This helps the site be able 
 to handle millions of orders per second. It also offers 17 languages and p
 rices in over 30 fiat currencies. Customers can also take advantage of the
  customer support offered by KuCoin\, which is focused on trading issues a
 nd takes immediate action if needed. You can also check out the FAQ sectio
 n and live chat to get some answers to common questions.\n\n*Simple and ea
 sy to sign up:*\n\nThe sign-up process is simple. Just click the ""sign up
 ":https://www.kucoin.com/ucenter/signup" button on the website\, enter you
 r username and password\, and fill in your personal information. Once you'
 ve finished the form\, you'll be asked to verify your identity by typing i
 n a captcha. To complete the process\, you'll be sent a confirmation email
 . Once you've received your confirmation\, you can begin trading.\nThe web
 site also offers multiple types of accounts. You can open one for cryptocu
 rrency transactions\, another for margin lending\, and yet another for sta
 king mining. Whether you're a beginner or an expert\, you'll be able to fi
 nd the best option for your needs. Besides\, KuCoin is also free to use. Y
 ou can sign up with this site now. It's easy to use and very safe.\n\n*Low
  fee Structure:*\n\nUnlike other cryptocurrency exchanges\, KuCoin offers 
 low fees. The fee structure is also beneficial for both new and experience
 d users. Traders can make a profit on the site by maximizing their profits
 . For example\, a few extra KCS can be deposited to the exchange every day
 \, and you'll see an increase in the value of your portfolio in no time.\n
 Besides allowing you to trade your crypto assets in a non-custodial fashio
 n\, KuCoin also aims to help you discover the best projects in the market.
  Its mobile app and website can be used to buy and sell the cryptocurrency
  you want. Its extensive support for over 300 cryptocurrencies is another 
 positive feature. As a result\, this site is the most widely used exchange
  in the market.\n\n*Supporting over limitless cryptocurrency:*\n\nBesides 
 offering the largest range of cryptocurrency pairs\, KuCoin also supports 
 over 450 cryptocurrency pairings. It also allows for trading in crypto-spe
 cific indexes and Bitcoin futures. US residents are not required to underg
 o KYC to use the platform\, and the platform allows you to withdraw up to 
 two Bitcoins daily. However\, there are a number of security concerns with
  KuCoin.\nIf you have been using Coinbase or another exchange for a long t
 ime\, then KuCoin is a great choice. Its user interface is very easy to na
 vigate\, and it has a large number of supported currencies. Apart from low
  trading fees\, it also offers a wide variety of advanced features. For ex
 ample\, it has over 250 different cryptocurrencies and an extremely large 
 number of users. Moreover\, you can deposit your cryptocurrency using cred
 it or debit cards. The downside is that you can't withdraw your fiat curre
 ncy\, so it's important to choose a strong password.\nMoreover\, KuCoin of
 fers a wide range of additional features that are helpful to the average i
 nvestor. The P2P marketplace and futures trading are great for experienced
  traders and investors. The company's centralized exchange has already bee
 n highly criticized and is looking to decentralize. Its centralized featur
 es make it the most popular <a href="https://www.kucoin.com/">cryptocurren
 cy exchange</a> in the market. And the most popular platform is still the 
 most secure.\n
LOCATION:Venue to be confirmed
END:VEVENT
END:VCALENDAR
