BEGIN:VCALENDAR
VERSION:2.0
PRODID:-//Talks.cam//talks.cam.ac.uk//
X-WR-CALNAME:Talks.cam
BEGIN:VEVENT
SUMMARY:Measuring Primordial non-Gaussianity from the CMB: The Role of the
  Clumpy Universe - Devdeep Sarkar (UC Irvine)
DTSTART:20090128T134500Z
DTEND:20090128T141500Z
UID:TALK16767@talks.cam.ac.uk
CONTACT:Dr Jonathan Gair
DESCRIPTION:Abstract not available
LOCATION:Sackler Lecture Theatre\, IoA
END:VEVENT
END:VCALENDAR
