BEGIN:VCALENDAR
VERSION:2.0
PRODID:-//Talks.cam//talks.cam.ac.uk//
X-WR-CALNAME:Talks.cam
BEGIN:VEVENT
SUMMARY:Darboux transformations and quasideterminants - Nimmo\, J (Glasgow
 )
DTSTART:20090128T140000Z
DTEND:20090128T150000Z
UID:TALK16789@talks.cam.ac.uk
CONTACT:Mustapha Amrani
DESCRIPTION:
LOCATION:Seminar Room 1\, Newton Institute
END:VEVENT
END:VCALENDAR
