BEGIN:VCALENDAR
VERSION:2.0
PRODID:-//Talks.cam//talks.cam.ac.uk//
X-WR-CALNAME:Talks.cam
BEGIN:VEVENT
SUMMARY:What causes disasters: Implications of language for understanding 
 causality and impact - Dr Steven Forrest (University of Hull)  Dr Ksenia C
 hmutina (Loughborough University)  Peter McGowran (King’s College London
 )
DTSTART:20220207T150000Z
DTEND:20220207T160000Z
UID:TALK168098@talks.cam.ac.uk
CONTACT:Hannah Baker
DESCRIPTION:The session focuses on the dilemmas of language in defining an
 d/or using the terminology of a disaster\, and the implications that this 
 may have on people’s understanding of causality and who is impacted by n
 atural hazard events. Questions explored by the speakers will include: who
  defines when a disaster becomes a disaster\, and does everyone impacted c
 onsider the event to be a disaster? Additionally\, why is there a need to 
 move away from the term ‘natural disasters’ and viewing disasters as o
 ne off-events?
LOCATION:Zoom
END:VEVENT
END:VCALENDAR
