BEGIN:VCALENDAR
VERSION:2.0
PRODID:-//Talks.cam//talks.cam.ac.uk//
X-WR-CALNAME:Talks.cam
BEGIN:VEVENT
SUMMARY:Knot projections in 3-manifolds other than the 3-sphere - Adele Ja
 ckson\, University of Oxford
DTSTART:20220311T160000Z
DTEND:20220311T170000Z
UID:TALK168134@talks.cam.ac.uk
CONTACT:Macarena Arenas
DESCRIPTION:Knot projections for knots in the 3-sphere allow us to easily 
 describe knots\, compute invariants\, enumerate all knots\, manipulate the
 m under Reidemeister moves and feed them into a computer. One might hope f
 or a similar representation of knots in general 3-manifolds. We will surve
 y properties of knots in general 3-manifolds and discuss a proposed diagra
 m-esque representation of them\, in which there are no crossings.
LOCATION:MR13
END:VEVENT
END:VCALENDAR
